BEGIN:VCALENDAR
VERSION:2.0
PRODID:-//BMAA - ECPv6.15.17//NONSGML v1.0//EN
CALSCALE:GREGORIAN
METHOD:PUBLISH
X-WR-CALNAME:BMAA
X-ORIGINAL-URL:https://bma2.org
X-WR-CALDESC:Events for BMAA
REFRESH-INTERVAL;VALUE=DURATION:PT1H
X-Robots-Tag:noindex
X-PUBLISHED-TTL:PT1H
BEGIN:VTIMEZONE
TZID:UTC
BEGIN:STANDARD
TZOFFSETFROM:+0000
TZOFFSETTO:+0000
TZNAME:UTC
DTSTART:20240101T000000
END:STANDARD
END:VTIMEZONE
BEGIN:VEVENT
DTSTART;VALUE=DATE:20250405
DTEND;VALUE=DATE:20250407
DTSTAMP:20260424T105841
CREATED:20250319T170314Z
LAST-MODIFIED:20250319T170314Z
UID:1937-1743811200-1743983999@bma2.org
SUMMARY:Events of Interest to the Astronomy Community
DESCRIPTION:NEAF (North East Astronomy Forum & Space Expo)\nSaturday 4/5  9-5 PM  Sunday 4/5  10-5 PM \nLargest Astronomy Expo in the World! \nRockland Community College 145 College Road\, Suffern\, NY   https://www.neafexpo.com/  (about 2 hrs from UDLC)\nDaily Pass $38  2 day pass $69  Free Parking \n209 Vendors from astronomy manufacturers and organizations from all over the globe\, presentations\, talks & workshops\, solar viewing\, food available on site.
URL:https://bma2.org/event/events-of-interest-to-the-astronomy-community/
LOCATION:Rockland Community College\, NY\, 145 College Road\, Suffern\, NY\, 10901\, United States
CATEGORIES:Events of Interest to the Astronomy Community
ATTACH;FMTTYPE=image/jpeg:https://bma2.org/wp-content/uploads/2025/03/Neaf25.jpg
END:VEVENT
END:VCALENDAR