BEGIN:VCALENDAR
VERSION:2.0
PRODID:-//BMAA - ECPv6.15.17//NONSGML v1.0//EN
CALSCALE:GREGORIAN
METHOD:PUBLISH
X-WR-CALNAME:BMAA
X-ORIGINAL-URL:https://bma2.org
X-WR-CALDESC:Events for BMAA
REFRESH-INTERVAL;VALUE=DURATION:PT1H
X-Robots-Tag:noindex
X-PUBLISHED-TTL:PT1H
BEGIN:VTIMEZONE
TZID:UTC
BEGIN:STANDARD
TZOFFSETFROM:+0000
TZOFFSETTO:+0000
TZNAME:UTC
DTSTART:20240101T000000
END:STANDARD
END:VTIMEZONE
BEGIN:VEVENT
DTSTART;TZID=UTC:20250920T193000
DTEND;TZID=UTC:20250920T223000
DTSTAMP:20260424T030359
CREATED:20250307T000201Z
LAST-MODIFIED:20250918T140818Z
UID:1756-1758396600-1758407400@bma2.org
SUMMARY:Public Starwatch
DESCRIPTION:Join us for a Starwatch at the Tohickon Boat Launch parking lot. Participation is free and open to the public. The astronomers from Bucks-Mont Astronomical Association will have telescopes available to look through and will be on hand to answer questions. (no rain date)\n\nBring binoculars or your own telescopes if you have them. We ask that you leave your pets at home for the safety and comfort of other participants and to prevent potential damage to delicate equipment.\n Starwatches take place in the grassy median between the two upper parking tiers. Please park facing away from this grassy area to reduce glare from headlights.\n Participants are welcome to arrive around 7:00 for pre-Star Watch activities while we wait for darkness. Stargazing will commence closer to 7:45 PM\, and end at 10:30 PM.\n Please check this website for updates in case the weather leads to postponement. Postponements\, if any\, will be communicated here by 5:00 PM on the day of the event.\n\n*** Club Members\, please wear your BMAA ID badge/lanyard **** \n\nThe use of laser pointers is limited and restricted to trained Club Members and Resource Rangers. If you see any member of the public using a laser pointer\, please report that to either Rachel or a one of the Resource Rangers from the park.\n\n– Thank You. \nhttp://bma2.org/starwatch-etiquette/
URL:https://bma2.org/event/public-starwatch-5/
LOCATION:Nockamixon Lake Park\, Tohickon Boat Launch\, FQGR+J4 Ottsville\, Pennsylvania\, PA\, 18951\, United States
CATEGORIES:Public Starwatch
ATTACH;FMTTYPE=image/png:https://bma2.org/wp-content/uploads/2025/01/110.png
END:VEVENT
END:VCALENDAR