BEGIN:VCALENDAR
VERSION:2.0
PRODID:-//BMAA - ECPv6.15.17//NONSGML v1.0//EN
CALSCALE:GREGORIAN
METHOD:PUBLISH
X-WR-CALNAME:BMAA
X-ORIGINAL-URL:https://bma2.org
X-WR-CALDESC:Events for BMAA
REFRESH-INTERVAL;VALUE=DURATION:PT1H
X-Robots-Tag:noindex
X-PUBLISHED-TTL:PT1H
BEGIN:VTIMEZONE
TZID:UTC
BEGIN:STANDARD
TZOFFSETFROM:+0000
TZOFFSETTO:+0000
TZNAME:UTC
DTSTART:20240101T000000
END:STANDARD
END:VTIMEZONE
BEGIN:VEVENT
DTSTART;TZID=UTC:20251001T193000
DTEND;TZID=UTC:20251001T210000
DTSTAMP:20260424T014306
CREATED:20250128T230906Z
LAST-MODIFIED:20250925T162526Z
UID:1086-1759347000-1759352400@bma2.org
SUMMARY:BMAA Monthly Meeting
DESCRIPTION:BMAA is inviting you to a scheduled Monthly Meeting that will take place at the Upper Dublin Planetarium\, in Sandy Run Middle School\, Dresher\, PA. \nProf. Kim Small will present “Using a Planetarium to Teach The Reason for the Season” – This session will demonstrate how the effects of the cause of the seasons can be visualized in the planetarium facility. Common misconceptions of the cause of the seasons will be discussed. We will explore the four important seasonal dates of equinoxes and solstices under the dome to make sense of seasonal changes based on the sun’s path and position in the sky. \nPlease park in the main parking lot of the school\, enter the main doors by the flagpole then follow the signs to the planetarium. Doors will open at 7:30pm.
URL:https://bma2.org/event/bmaa-monthly-meeting-9/
LOCATION:Upper Dublin Planetarium\, Sandy Run Middle School\, 520 Twining Rd.\, Dresher\, PA\, 19025\, United States
CATEGORIES:BMAA Monthly Meeting
ATTACH;FMTTYPE=image/jpeg:https://bma2.org/wp-content/uploads/2025/01/UD-Planetarium.jpg
END:VEVENT
END:VCALENDAR