BEGIN:VCALENDAR
VERSION:2.0
PRODID:-//BMAA - ECPv6.15.17//NONSGML v1.0//EN
CALSCALE:GREGORIAN
METHOD:PUBLISH
X-WR-CALNAME:BMAA
X-ORIGINAL-URL:https://bma2.org
X-WR-CALDESC:Events for BMAA
REFRESH-INTERVAL;VALUE=DURATION:PT1H
X-Robots-Tag:noindex
X-PUBLISHED-TTL:PT1H
BEGIN:VTIMEZONE
TZID:UTC
BEGIN:STANDARD
TZOFFSETFROM:+0000
TZOFFSETTO:+0000
TZNAME:UTC
DTSTART:20240101T000000
END:STANDARD
END:VTIMEZONE
BEGIN:VEVENT
DTSTART;TZID=UTC:20251025T190000
DTEND;TZID=UTC:20251025T210000
DTSTAMP:20260424T014303
CREATED:20250906T191350Z
LAST-MODIFIED:20251025T211541Z
UID:2367-1761418800-1761426000@bma2.org
SUMMARY:Outreach Event
DESCRIPTION:STARWATCH CANCELED \nDue to the cloudy skies the Starwatch part of this event has been canceled. \nJoin us for an Informal Starwatch event at Kahir Community Center & Mosque in Phoenixville  7:00 PM – 9:00 PM
URL:https://bma2.org/event/outreach-kahir-community-center/
LOCATION:Khair Community Center\, 1079 Egypt Rd\, Phoenixville\, 19460\, United States
CATEGORIES:Outreach Event
END:VEVENT
END:VCALENDAR