BEGIN:VCALENDAR
VERSION:2.0
PRODID:-//BMAA - ECPv6.15.17//NONSGML v1.0//EN
CALSCALE:GREGORIAN
METHOD:PUBLISH
X-WR-CALNAME:BMAA
X-ORIGINAL-URL:https://bma2.org
X-WR-CALDESC:Events for BMAA
REFRESH-INTERVAL;VALUE=DURATION:PT1H
X-Robots-Tag:noindex
X-PUBLISHED-TTL:PT1H
BEGIN:VTIMEZONE
TZID:UTC
BEGIN:STANDARD
TZOFFSETFROM:+0000
TZOFFSETTO:+0000
TZNAME:UTC
DTSTART:20250101T000000
END:STANDARD
END:VTIMEZONE
BEGIN:VEVENT
DTSTART;TZID=UTC:20260107T193000
DTEND;TZID=UTC:20260107T210000
DTSTAMP:20260423T215522
CREATED:20251117T213322Z
LAST-MODIFIED:20260103T182619Z
UID:2588-1767814200-1767819600@bma2.org
SUMMARY:BMAA Monthly Meeting
DESCRIPTION:BMAA is inviting you to a scheduled Monthly Meeting.\nIn addition to our regular agenda items we will have our Holiday social!  The evening will include a quiz on “Important Dates in Astronomy” by our Vice-President Gary Sprague. Bring a snack or dish to share.\nThis meeting will be in-person only. Please use the main entrance\, look for the yellow and black BMAA sign.
URL:https://bma2.org/event/bmaa-monthly-meeting-13/
LOCATION:Upper Dublin Lutheran Church\, 411 Susquehanna Rd\, Ambler\, 19002\, United States
CATEGORIES:BMAA Monthly Meeting
ATTACH;FMTTYPE=image/jpeg:https://bma2.org/wp-content/uploads/2025/11/Xmas-Tree-w-planets-sm.jpg
END:VEVENT
END:VCALENDAR