BEGIN:VCALENDAR
VERSION:2.0
PRODID:-//BMAA - ECPv6.15.17//NONSGML v1.0//EN
CALSCALE:GREGORIAN
METHOD:PUBLISH
X-ORIGINAL-URL:https://bma2.org
X-WR-CALDESC:Events for BMAA
REFRESH-INTERVAL;VALUE=DURATION:PT1H
X-Robots-Tag:noindex
X-PUBLISHED-TTL:PT1H
BEGIN:VTIMEZONE
TZID:UTC
BEGIN:STANDARD
TZOFFSETFROM:+0000
TZOFFSETTO:+0000
TZNAME:UTC
DTSTART:20250101T000000
END:STANDARD
END:VTIMEZONE
BEGIN:VEVENT
DTSTART;TZID=UTC:20260902T193000
DTEND;TZID=UTC:20260902T210000
DTSTAMP:20260423T215525
CREATED:20251117T222101Z
LAST-MODIFIED:20260403T201417Z
UID:2601-1788377400-1788382800@bma2.org
SUMMARY:BMAA Monthly Meeting: Binocular Stargazing by Gary Sprague
DESCRIPTION:BMAA is inviting you to a scheduled Monthly Meeting.\nIn addition to our regular agenda items there will be a Special Presentation on “Binoculars Stargazing” by Gary Sprague. Bring your own binos and share your experience using them with the group! \nThis presentation will cover the use of binoculars for stargazing including a background of the development of binoculars\, elements of binocular design\, different types and their advantages. We will also cover parameters and definitions as well as design considerations and their utility. We will describe various approaches for using binoculars for astronomy. Finally\, we will describe commercially available binoculars and members will be encouraged to bring and demonstrate how they selected and use their own binoculars. \nPlease use the entrance to the right of the main entrance\, look for the yellow and black BMAA sign.
URL:https://bma2.org/event/bmaa-monthly-meeting-17/
LOCATION:Upper Dublin Lutheran Church\, 411 Susquehanna Rd\, Ambler\, 19002\, United States
CATEGORIES:BMAA Monthly Meeting
ATTACH;FMTTYPE=image/jpeg:https://bma2.org/wp-content/uploads/2025/11/Binoculars.jpg
END:VEVENT
END:VCALENDAR