BEGIN:VCALENDAR
VERSION:2.0
PRODID:-//BMAA - ECPv6.15.17//NONSGML v1.0//EN
CALSCALE:GREGORIAN
METHOD:PUBLISH
X-WR-CALNAME:BMAA
X-ORIGINAL-URL:https://bma2.org
X-WR-CALDESC:Events for BMAA
REFRESH-INTERVAL;VALUE=DURATION:PT1H
X-Robots-Tag:noindex
X-PUBLISHED-TTL:PT1H
BEGIN:VTIMEZONE
TZID:UTC
BEGIN:STANDARD
TZOFFSETFROM:+0000
TZOFFSETTO:+0000
TZNAME:UTC
DTSTART:20250101T000000
END:STANDARD
END:VTIMEZONE
BEGIN:VEVENT
DTSTART;TZID=UTC:20260701T193000
DTEND;TZID=UTC:20260701T210000
DTSTAMP:20260423T220146
CREATED:20251117T223149Z
LAST-MODIFIED:20260314T190027Z
UID:2607-1782934200-1782939600@bma2.org
SUMMARY:BMAA Monthly Meeting: "Electronically assisted observing" by Gary Sprague
DESCRIPTION:BMAA is inviting you to a scheduled Monthly Meeting.\nIn addition to our regular agenda items there will be a Special Presentation on “Electronically assisted observing” by Gary Sprague\nThis special presentation will describe approaches for using video cameras to augment visual observing. This is a “hybrid” approach to visual observing using elements of imaging with a video camera. It can be relatively easy and affordable (compared to standard astrophotography). Video cameras (camcorders\, webcams\, etc.) are numerous; they use CCD’s smaller than DSLR and can obtain multiple images/minute. Images can be viewed immediately using a video monitor or they can be output to a computer. The presentation will describe typical equipment available and demonstrate one particular approach. \nPlease use the entrance to the right of the main entrance\, look for the yellow and black BMAA sign.
URL:https://bma2.org/event/bmaa-monthly-meeting-19/
LOCATION:Upper Dublin Lutheran Church\, 411 Susquehanna Rd\, Ambler\, 19002\, United States
CATEGORIES:BMAA Monthly Meeting
ATTACH;FMTTYPE=image/jpeg:https://bma2.org/wp-content/uploads/2025/11/Videocam-Imaging.jpg
END:VEVENT
END:VCALENDAR