BEGIN:VCALENDAR
VERSION:2.0
PRODID:-//BMAA - ECPv6.15.17//NONSGML v1.0//EN
CALSCALE:GREGORIAN
METHOD:PUBLISH
X-ORIGINAL-URL:https://bma2.org
X-WR-CALDESC:Events for BMAA
REFRESH-INTERVAL;VALUE=DURATION:PT1H
X-Robots-Tag:noindex
X-PUBLISHED-TTL:PT1H
BEGIN:VTIMEZONE
TZID:UTC
BEGIN:STANDARD
TZOFFSETFROM:+0000
TZOFFSETTO:+0000
TZNAME:UTC
DTSTART:20240101T000000
END:STANDARD
END:VTIMEZONE
BEGIN:VEVENT
DTSTART;TZID=UTC:20250405T150000
DTEND;TZID=UTC:20250405T180000
DTSTAMP:20260424T120136
CREATED:20250319T163736Z
LAST-MODIFIED:20250319T164707Z
UID:1929-1743865200-1743876000@bma2.org
SUMMARY:BMAA Outreach Event
DESCRIPTION:“Blast Off at the Library”\n\n\n\n\n\n\nWarminster Public Library\nSat. 5th. April 2025 – 3:00 PM to 6:00 PM\n\n\n\n\n\n\nBMAA will be running a kids space themed craft activity as well as static telescopes on display.
URL:https://bma2.org/event/bmaa-outreach-event-2/
LOCATION:Warminster Public Library\, 1076 Emma Lane\, Warminster\, 18974\, United States
CATEGORIES:Outreach Event
ATTACH;FMTTYPE=image/jpeg:https://bma2.org/wp-content/uploads/2025/03/Event-5April25-e1742402578862.jpg
END:VEVENT
END:VCALENDAR