BEGIN:VCALENDAR
VERSION:2.0
PRODID:-//BMAA - ECPv6.15.17//NONSGML v1.0//EN
CALSCALE:GREGORIAN
METHOD:PUBLISH
X-WR-CALNAME:BMAA
X-ORIGINAL-URL:https://bma2.org
X-WR-CALDESC:Events for BMAA
REFRESH-INTERVAL;VALUE=DURATION:PT1H
X-Robots-Tag:noindex
X-PUBLISHED-TTL:PT1H
BEGIN:VTIMEZONE
TZID:UTC
BEGIN:STANDARD
TZOFFSETFROM:+0000
TZOFFSETTO:+0000
TZNAME:UTC
DTSTART:20240101T000000
END:STANDARD
END:VTIMEZONE
BEGIN:VEVENT
DTSTART;TZID=UTC:20251023T190000
DTEND;TZID=UTC:20251023T200000
DTSTAMP:20260424T024517
CREATED:20250906T193910Z
LAST-MODIFIED:20250919T012237Z
UID:2372-1761246000-1761249600@bma2.org
SUMMARY:Outreach Event
DESCRIPTION: “21st Century Amateur Astronomy”  by Dwight Dulsky\, BMA2 Outreach Coordinator and NASA Ambassador\nHosted by the Bowman’s Hill Wildflower Preserve\nThe Presentation will be over Zoom – 7:00 PM – 8:00 PM\nCheck the organizer’s website for the Zoom link.\n\n\nThe face of amateur astronomy has changed dramatically over the past few years. Advances in optics\, precision mounts\, computerized cameras and tracking capabilities have all elevated the world of the backyard astronomer to new levels that rival what professional observatories were capable of just a few years ago. Amateur equipment and citizen science opportunities abound for ordinary people to make valuable contributions to the professional astronomical community. Whether just casually stargazing with friends or monitoring the skies for science\, it is an exciting time we live in for amateur astronomers. We'll explore what it takes to get involved with observing the sky\, along with showing some of the amazing astrophotos taken by the club members of the Bucks-Mont Astronomical Association.
URL:https://bma2.org/event/outreach-bowman-hill-wildflower-preserve/
LOCATION:Bowman’s Hill\, 1635 River Rd\,\, New Hope\, PA\, 18938\, United States
CATEGORIES:Outreach Event
ATTACH;FMTTYPE=image/jpeg:https://bma2.org/wp-content/uploads/2025/09/Bowmans-Hill-Wildflower-Preserve-e1758243964133.jpg
ORGANIZER;CN="Bowman's Hill":MAILTO:bhwp@bhwp.org
END:VEVENT
END:VCALENDAR