BEGIN:VCALENDAR
VERSION:2.0
PRODID:-//BMAA - ECPv6.15.17//NONSGML v1.0//EN
CALSCALE:GREGORIAN
METHOD:PUBLISH
X-WR-CALNAME:BMAA
X-ORIGINAL-URL:https://bma2.org
X-WR-CALDESC:Events for BMAA
REFRESH-INTERVAL;VALUE=DURATION:PT1H
X-Robots-Tag:noindex
X-PUBLISHED-TTL:PT1H
BEGIN:VTIMEZONE
TZID:UTC
BEGIN:STANDARD
TZOFFSETFROM:+0000
TZOFFSETTO:+0000
TZNAME:UTC
DTSTART:20240101T000000
END:STANDARD
END:VTIMEZONE
BEGIN:VEVENT
DTSTART;TZID=UTC:20260421T190000
DTEND;TZID=UTC:20260421T210000
DTSTAMP:20260423T202328
CREATED:20260410T002014Z
LAST-MODIFIED:20260410T005358Z
UID:3039-1776798000-1776805200@bma2.org
SUMMARY:Outreach Event - Cheltenham Camera Club
DESCRIPTION:BMA2 club will present to the Cheltenham Camera Club.\nFrom 7:00-9:00 PM. \nThis event is FREE and open to our members and the general public.\n\nPart of this presentation will be to introduce the wide scope of astrophotography avenues open to the amateur photography enthusiast. Although much of the hobby is focused on deep sky targets\, there are many other very satisfying aspects of photographing the night sky requiring far less specialized equipment and training. In addition to deep sky\, we will give an overview at making skyscapes\, star trails\, constellations\, photographing the Sun\, Moon\, Planets\, Northern Lights\, eclipses\, meteor showers and comets.\n\nFor the camera club members\, we will put a special emphasis on how to use a typical DSLR camera/lenses in manual mode on a tripod to capture many of these unique objects. Additionally\, we will highlight using a SeeStar digital smart scope as an entryway into imaging the night sky (Thanks Don Schuenemann). Weather permitting a live demo on site will be provided.\n\nResources for additional information/study will be provided to attendees.
URL:https://bma2.org/event/outreach-event-cheltenham-camera-club/
LOCATION:Cheltenham Camera Club\, All Hallows Church\, 262 Bent Rd\, Wyncote\, PA\, 19095\, United States
CATEGORIES:Outreach Event
ATTACH;FMTTYPE=image/png:https://bma2.org/wp-content/uploads/2026/04/IMG_2163.png
END:VEVENT
BEGIN:VEVENT
DTSTART;TZID=UTC:20260325T183000
DTEND;TZID=UTC:20260325T200000
DTSTAMP:20260423T202328
CREATED:20260113T183744Z
LAST-MODIFIED:20260227T004137Z
UID:2713-1774463400-1774468800@bma2.org
SUMMARY:Outreach Event
DESCRIPTION:March 25th. 6:30pm\, Wissahickon Valley Public Library – Ambler Branch\n\n\n\n\n“How we Know – Creative ways astronomers explore the Universe”  –  Dwight Dulsky\, NASA Ambassador and BMA2 Outreach Coordinator\nOver time\, astronomers have unlocked many secrets of the universe in very clever and unique ways. In this hour\, we will discover how we have come to know some of the great mysteries of the Universe.\nThis event is free and open to the public\, but registration with the library is required to guarantee a seat.\n\n\n\n\nAmbler Public Library\, 209 Race Street\, Ambler\, PA\, 19002\n\n\n\n\nClick here to link to the Wissahickon Valley Public Library Ambler Branch and pre-register for this free event. 
URL:https://bma2.org/event/outreach-event-5/
LOCATION:Wissahickon Valley Public Library – Ambler Branch\, 209 Race Street\, Ambler\, PA\, 19002\, United States
CATEGORIES:Outreach Event
ATTACH;FMTTYPE=image/jpeg:https://bma2.org/wp-content/uploads/2025/09/Dwight-Dulsky-e1768329667818.jpg
END:VEVENT
BEGIN:VEVENT
DTSTART;TZID=UTC:20260312T180000
DTEND;TZID=UTC:20260312T193000
DTSTAMP:20260423T202328
CREATED:20260309T141604Z
LAST-MODIFIED:20260309T150353Z
UID:2944-1773338400-1773343800@bma2.org
SUMMARY:Outreach Event - Maple Glen Elementary STEM Festival
DESCRIPTION:Maple Glen Elementary School STEM Festival\, March 12 from 6:00-7:30PM.\nBMA2 Club Members will have astronomy activities appropriate for younger kids. \nAn indoor telescope display and possibly an outdoor telescope set up for observation.
URL:https://bma2.org/event/outreach-event-maple-glen-elementary-stem-festival/
LOCATION:Maple Glen Elementary\, 1581 Ft Washington Ave\, Maple Glen\, 19002\, United States
CATEGORIES:Outreach Event
ATTACH;FMTTYPE=image/jpeg:https://bma2.org/wp-content/uploads/2026/03/Untitled-2.jpg
END:VEVENT
BEGIN:VEVENT
DTSTART;TZID=UTC:20251025T190000
DTEND;TZID=UTC:20251025T210000
DTSTAMP:20260423T202328
CREATED:20250906T191350Z
LAST-MODIFIED:20251025T211541Z
UID:2367-1761418800-1761426000@bma2.org
SUMMARY:Outreach Event
DESCRIPTION:STARWATCH CANCELED \nDue to the cloudy skies the Starwatch part of this event has been canceled. \nJoin us for an Informal Starwatch event at Kahir Community Center & Mosque in Phoenixville  7:00 PM – 9:00 PM
URL:https://bma2.org/event/outreach-kahir-community-center/
LOCATION:Khair Community Center\, 1079 Egypt Rd\, Phoenixville\, 19460\, United States
CATEGORIES:Outreach Event
END:VEVENT
BEGIN:VEVENT
DTSTART;TZID=UTC:20251023T190000
DTEND;TZID=UTC:20251023T200000
DTSTAMP:20260423T202328
CREATED:20250906T193910Z
LAST-MODIFIED:20250919T012237Z
UID:2372-1761246000-1761249600@bma2.org
SUMMARY:Outreach Event
DESCRIPTION: “21st Century Amateur Astronomy”  by Dwight Dulsky\, BMA2 Outreach Coordinator and NASA Ambassador\nHosted by the Bowman’s Hill Wildflower Preserve\nThe Presentation will be over Zoom – 7:00 PM – 8:00 PM\nCheck the organizer’s website for the Zoom link.\n\n\nThe face of amateur astronomy has changed dramatically over the past few years. Advances in optics\, precision mounts\, computerized cameras and tracking capabilities have all elevated the world of the backyard astronomer to new levels that rival what professional observatories were capable of just a few years ago. Amateur equipment and citizen science opportunities abound for ordinary people to make valuable contributions to the professional astronomical community. Whether just casually stargazing with friends or monitoring the skies for science\, it is an exciting time we live in for amateur astronomers. We'll explore what it takes to get involved with observing the sky\, along with showing some of the amazing astrophotos taken by the club members of the Bucks-Mont Astronomical Association.
URL:https://bma2.org/event/outreach-bowman-hill-wildflower-preserve/
LOCATION:Bowman’s Hill\, 1635 River Rd\,\, New Hope\, PA\, 18938\, United States
CATEGORIES:Outreach Event
ATTACH;FMTTYPE=image/jpeg:https://bma2.org/wp-content/uploads/2025/09/Bowmans-Hill-Wildflower-Preserve-e1758243964133.jpg
ORGANIZER;CN="Bowman's Hill":MAILTO:bhwp@bhwp.org
END:VEVENT
BEGIN:VEVENT
DTSTART;TZID=UTC:20250927T210000
DTEND;TZID=UTC:20250927T220000
DTSTAMP:20260423T202328
CREATED:20250607T122337Z
LAST-MODIFIED:20250927T123831Z
UID:2133-1759006800-1759010400@bma2.org
SUMMARY:Outreach Event
DESCRIPTION:UPDATE: Due to the predicted 100% cloud cover\, BMA2 will not participate to this event.\nJoin us for a public Starwatch from 9:00 pm to 10:00 pm\, on Saturday Sep. 27\, held during the Temple University Camp Out Event in Ambler.\nBefore you go  \nIf you plan to spend the night at the Temple Organized campout\, please be advised that it is an all-weather event and will be held rain or shine. Pets\, alcohol and smoking are prohibited. \nOvernight Camp Out Event Information\, free pre-registration and details can be found at the Temple Camp Out web site: https://ambler.temple.edu/community/temple-ambler-campout.
URL:https://bma2.org/event/outreach-event-3/
LOCATION:Temple University Ambler Campus\, 580 Meetinghouse Rd\,\, Ambler\, 19002\, United States
CATEGORIES:Outreach Event
ATTACH;FMTTYPE=image/png:https://bma2.org/wp-content/uploads/2025/06/Campout-2025-v1_0-e1758204563839.png
END:VEVENT
BEGIN:VEVENT
DTSTART;TZID=UTC:20250730T094500
DTEND;TZID=UTC:20250730T110000
DTSTAMP:20260423T202328
CREATED:20250506T211822Z
LAST-MODIFIED:20250607T125123Z
UID:2053-1753868700-1753873200@bma2.org
SUMMARY:Outreach Event
DESCRIPTION:LECTURE: Eclipses\, Auroras and Comets\, Oh My!\nby Dwight Dulsky \n\n2024 was an incredible year featuring three major astronomical events for astronomers. These are jaw dropping sights that don’t happen that often\, and to have these bucket list items appear right in our backyards is very rare. Our astronomers are constantly watching the skies and recording these special happenings year-round. We will revisit these three unique events and tell the backstory of how they occur and what we do to capture them in stunning detail. While most people sleep\, the Universe unfolds a beautiful tableau during the night. \nPresenter: For the past 20 years\, Dwight Dulsky of the Bucks-Mont Astronomical Association has worked on school and community outreach programming among numerous regional organizations teaching children and adults about the wonders of the night sky. Most recently\, with the Astronomical Society of the Pacific providing Solar Eclipse safety information in 2024. \nRegister to attend at the Upper Dublin Library Website
URL:https://bma2.org/event/outreach-event/
LOCATION:Upper Dublin Public Library\, 520 Virginia Dr\, Fort Washington\, 19034\, United States
CATEGORIES:Outreach Event
ATTACH;FMTTYPE=image/jpeg:https://bma2.org/wp-content/uploads/2025/06/download-1.jpg
END:VEVENT
BEGIN:VEVENT
DTSTART;TZID=UTC:20250610T203000
DTEND;TZID=UTC:20250610T223000
DTSTAMP:20260423T202328
CREATED:20250606T205633Z
LAST-MODIFIED:20250607T124859Z
UID:2127-1749587400-1749594600@bma2.org
SUMMARY:Outreach Event
DESCRIPTION:Full Moon Walk: Strawberry Moon \nThe walk will start and end at the fishing pier\, followed by moon viewing. \nFree event – Registration required at the following site: \nhttps://events.dcnr.pa.gov/event/full-moon-walk-strawberry-moon-2342
URL:https://bma2.org/event/outreach-event-2/
LOCATION:Nockamixon Lake Park\, Tohickon Boat Launch\, FQGR+J4 Ottsville\, Pennsylvania\, PA\, 18951\, United States
CATEGORIES:Outreach Event
ATTACH;FMTTYPE=image/jpeg:https://bma2.org/wp-content/uploads/2025/06/6b3107c714cc7f12b51da9086f4cb081feb1f934.jpg
END:VEVENT
BEGIN:VEVENT
DTSTART;TZID=UTC:20250426T090000
DTEND;TZID=UTC:20250426T120000
DTSTAMP:20260423T202328
CREATED:20250307T000651Z
LAST-MODIFIED:20250316T233441Z
UID:1762-1745658000-1745668800@bma2.org
SUMMARY:BMAA Outreach Event
DESCRIPTION:“Earth Day Celebration”\n\n\n\n\nNockamixon State Park\nSat. 26th. April 2025 – 9:00 AM to Noon
URL:https://bma2.org/event/bmaa-outreach-event/
LOCATION:Marina Visitor Center\, 1 Harrisburg School Rd.\, Quakertown\, PA\, 18951
CATEGORIES:Outreach Event
ATTACH;FMTTYPE=image/jpeg:https://bma2.org/wp-content/uploads/2025/03/Nockamixon-State-Park-Entrance.jpg
END:VEVENT
BEGIN:VEVENT
DTSTART;TZID=UTC:20250405T150000
DTEND;TZID=UTC:20250405T180000
DTSTAMP:20260423T202328
CREATED:20250319T163736Z
LAST-MODIFIED:20250319T164707Z
UID:1929-1743865200-1743876000@bma2.org
SUMMARY:BMAA Outreach Event
DESCRIPTION:“Blast Off at the Library”\n\n\n\n\n\n\nWarminster Public Library\nSat. 5th. April 2025 – 3:00 PM to 6:00 PM\n\n\n\n\n\n\nBMAA will be running a kids space themed craft activity as well as static telescopes on display.
URL:https://bma2.org/event/bmaa-outreach-event-2/
LOCATION:Warminster Public Library\, 1076 Emma Lane\, Warminster\, 18974\, United States
CATEGORIES:Outreach Event
ATTACH;FMTTYPE=image/jpeg:https://bma2.org/wp-content/uploads/2025/03/Event-5April25-e1742402578862.jpg
END:VEVENT
BEGIN:VEVENT
DTSTART;TZID=UTC:20250306T170000
DTEND;TZID=UTC:20250306T200000
DTSTAMP:20260423T202328
CREATED:20250303T223554Z
LAST-MODIFIED:20250307T003454Z
UID:1498-1741280400-1741291200@bma2.org
SUMMARY:BMAA Outreach Event
DESCRIPTION:“March Art After Dark – Galaxies and Galleries”\n\n\n\n\nMichener Art Museum – Doylestown\nThu. 6 March 2025 – 5:00 PM to 8:00 PM
URL:https://bma2.org/event/outreach-event-1/
LOCATION:Michener Art Museum\, 138 S Pine St\, Doylestown\, 18901\, United States
CATEGORIES:Outreach Event
ATTACH;FMTTYPE=image/jpeg:https://bma2.org/wp-content/uploads/2025/03/Michener.jpg
END:VEVENT
END:VCALENDAR