BEGIN:VCALENDAR
VERSION:2.0
PRODID:-//BMAA - ECPv6.15.17//NONSGML v1.0//EN
CALSCALE:GREGORIAN
METHOD:PUBLISH
X-ORIGINAL-URL:https://bma2.org
X-WR-CALDESC:Events for BMAA
REFRESH-INTERVAL;VALUE=DURATION:PT1H
X-Robots-Tag:noindex
X-PUBLISHED-TTL:PT1H
BEGIN:VTIMEZONE
TZID:UTC
BEGIN:STANDARD
TZOFFSETFROM:+0000
TZOFFSETTO:+0000
TZNAME:UTC
DTSTART:20240101T000000
END:STANDARD
END:VTIMEZONE
BEGIN:VEVENT
DTSTART;TZID=UTC:20260418T200000
DTEND;TZID=UTC:20260418T220000
DTSTAMP:20260423T215858
CREATED:20260129T130415Z
LAST-MODIFIED:20260418T202253Z
UID:2815-1776542400-1776549600@bma2.org
SUMMARY:Public Starwatch - CANCELED
DESCRIPTION:TONIGHT STARWATCH IS CANCELED! \nUnfortunately this beautiful Saturday weather looks like it is going to be going downhill this evening. For this reason we have to cancel the starwatch. \nAll of our weather models are showing cloudy conditions starting at 8 PM and continuing through the night and into Sunday.\nSo we have to cancel tonight’s Star Watch at Nockamixon State Park and try again on Saturday May 16th.😞\nPlease check this website for updates in case the weather leads to cancellation. Cancellations\, if any\, will be communicated here by 5:00 PM on the day of the event. \nBefore you go please\, check our guidelines and tips to ensure that your stargazing will be an enjoyable experience for you and alll those who will attend:  https://bma2.org/starwatch-etiquette/
URL:https://bma2.org/event/public-starwatch-12/
LOCATION:Nockamixon Lake Park\, Tohickon Boat Launch\, FQGR+J4 Ottsville\, Pennsylvania\, PA\, 18951\, United States
CATEGORIES:Public Starwatch
ATTACH;FMTTYPE=image/png:https://bma2.org/wp-content/uploads/2025/01/110.png
END:VEVENT
BEGIN:VEVENT
DTSTART;TZID=UTC:20260314T193000
DTEND;TZID=UTC:20260314T220000
DTSTAMP:20260423T215858
CREATED:20260129T125948Z
LAST-MODIFIED:20260129T125948Z
UID:2813-1773516600-1773525600@bma2.org
SUMMARY:Public Starwatch
DESCRIPTION:Join us for a Star Watch at the Tohickon Boat Launch parking lot. Participation is free and open to the public. Our astronomers will have telescopes available to look through and will be on hand to answer questions. \nPlease check this website for updates in case the weather leads to cancellation. Cancellations\, if any\, will be communicated here by 5:00 PM on the day of the event. \nBefore you go please\, check our guidelines and tips to ensure that your stargazing will be an enjoyable experience for you and alll those who will attend:  https://bma2.org/starwatch-etiquette/
URL:https://bma2.org/event/public-starwatch-11/
LOCATION:Nockamixon Lake Park\, Tohickon Boat Launch\, FQGR+J4 Ottsville\, Pennsylvania\, PA\, 18951\, United States
CATEGORIES:Public Starwatch
ATTACH;FMTTYPE=image/png:https://bma2.org/wp-content/uploads/2025/01/110.png
END:VEVENT
BEGIN:VEVENT
DTSTART;TZID=UTC:20251114T190000
DTEND;TZID=UTC:20251114T223000
DTSTAMP:20260423T215858
CREATED:20250307T000330Z
LAST-MODIFIED:20251114T233543Z
UID:1760-1763146800-1763159400@bma2.org
SUMMARY:Public Starwatch
DESCRIPTION:CANCELED\nDue to cloudy skies\, tonight star watch has been CANCELED\nJoin us for the last Public Star Watch of the year at the Tohickon Boat Launch parking lot. Participation is free and open to the public. Our astronomers will have telescopes available to look through and will be on hand to answer questions. (no rain date)\nBefore you go please\, check our guidelines and tips to ensure that your stargazing will be an enjoyable experience for you and alll those who will attend:  https://bma2.org/starwatch-etiquette/
URL:https://bma2.org/event/public-starwatch-7/
LOCATION:Nockamixon Lake Park\, Tohickon Boat Launch\, FQGR+J4 Ottsville\, Pennsylvania\, PA\, 18951\, United States
CATEGORIES:Public Starwatch
ATTACH;FMTTYPE=image/jpeg:https://bma2.org/wp-content/uploads/2025/03/Dwight_IMG_0032-copy-1-e1761582210750.jpeg
END:VEVENT
BEGIN:VEVENT
DTSTART;TZID=UTC:20251018T190000
DTEND;TZID=UTC:20251018T220000
DTSTAMP:20260423T215858
CREATED:20250307T000245Z
LAST-MODIFIED:20250918T141900Z
UID:1758-1760814000-1760824800@bma2.org
SUMMARY:Public Starwatch
DESCRIPTION:Join us for a Star Watch at the Tohickon Boat Launch parking lot. Participation is free and open to the public. Our astronomers will have telescopes available to look through and will be on hand to answer questions. (no rain date) \nBefore you go please\, check our guidelines and tips to ensure that your stargazing will be an enjoyable experience for you and alll those who will attend:  https://bma2.org/starwatch-etiquette/
URL:https://bma2.org/event/public-starwatch-6/
LOCATION:Nockamixon Lake Park\, Tohickon Boat Launch\, FQGR+J4 Ottsville\, Pennsylvania\, PA\, 18951\, United States
CATEGORIES:Public Starwatch
ATTACH;FMTTYPE=image/png:https://bma2.org/wp-content/uploads/2025/01/110.png
END:VEVENT
BEGIN:VEVENT
DTSTART;TZID=UTC:20250920T193000
DTEND;TZID=UTC:20250920T223000
DTSTAMP:20260423T215858
CREATED:20250307T000201Z
LAST-MODIFIED:20250918T140818Z
UID:1756-1758396600-1758407400@bma2.org
SUMMARY:Public Starwatch
DESCRIPTION:Join us for a Starwatch at the Tohickon Boat Launch parking lot. Participation is free and open to the public. The astronomers from Bucks-Mont Astronomical Association will have telescopes available to look through and will be on hand to answer questions. (no rain date)\n\nBring binoculars or your own telescopes if you have them. We ask that you leave your pets at home for the safety and comfort of other participants and to prevent potential damage to delicate equipment.\n Starwatches take place in the grassy median between the two upper parking tiers. Please park facing away from this grassy area to reduce glare from headlights.\n Participants are welcome to arrive around 7:00 for pre-Star Watch activities while we wait for darkness. Stargazing will commence closer to 7:45 PM\, and end at 10:30 PM.\n Please check this website for updates in case the weather leads to postponement. Postponements\, if any\, will be communicated here by 5:00 PM on the day of the event.\n\n*** Club Members\, please wear your BMAA ID badge/lanyard **** \n\nThe use of laser pointers is limited and restricted to trained Club Members and Resource Rangers. If you see any member of the public using a laser pointer\, please report that to either Rachel or a one of the Resource Rangers from the park.\n\n– Thank You. \nhttp://bma2.org/starwatch-etiquette/
URL:https://bma2.org/event/public-starwatch-5/
LOCATION:Nockamixon Lake Park\, Tohickon Boat Launch\, FQGR+J4 Ottsville\, Pennsylvania\, PA\, 18951\, United States
CATEGORIES:Public Starwatch
ATTACH;FMTTYPE=image/png:https://bma2.org/wp-content/uploads/2025/01/110.png
END:VEVENT
BEGIN:VEVENT
DTSTART;TZID=UTC:20250816T200000
DTEND;TZID=UTC:20250816T230000
DTSTAMP:20260423T215858
CREATED:20250307T000105Z
LAST-MODIFIED:20250307T000109Z
UID:1754-1755374400-1755385200@bma2.org
SUMMARY:Public Starwatch
DESCRIPTION:Join us for a public Starwatch event \n(rain date August 23rd)
URL:https://bma2.org/event/public-starwatch-4/
LOCATION:Nockamixon Lake Park\, Tohickon Boat Launch\, FQGR+J4 Ottsville\, Pennsylvania\, PA\, 18951\, United States
CATEGORIES:Public Starwatch
ATTACH;FMTTYPE=image/png:https://bma2.org/wp-content/uploads/2025/01/110.png
END:VEVENT
BEGIN:VEVENT
DTSTART;TZID=UTC:20250726T203000
DTEND;TZID=UTC:20250726T230000
DTSTAMP:20260423T215858
CREATED:20250719T161812Z
LAST-MODIFIED:20250726T212658Z
UID:2245-1753561800-1753570800@bma2.org
SUMMARY:Public Starwatch
DESCRIPTION:—–7/26 STARWATCH has been CANCELED—— \nPublic Starwatch @ Nockamixon State Park from 8:30 to 11:00 pm has been canceled due to bad weather. Check our Calendar and Events page for next one.
URL:https://bma2.org/event/public-starwatch-8/
LOCATION:Nockamixon Lake Park\, Tohickon Boat Launch\, FQGR+J4 Ottsville\, Pennsylvania\, PA\, 18951\, United States
CATEGORIES:Public Starwatch
ATTACH;FMTTYPE=image/png:https://bma2.org/wp-content/uploads/2025/01/110.png
END:VEVENT
BEGIN:VEVENT
DTSTART;TZID=UTC:20250719T203000
DTEND;TZID=UTC:20250719T230000
DTSTAMP:20260423T215858
CREATED:20250306T235931Z
LAST-MODIFIED:20250719T161506Z
UID:1751-1752957000-1752966000@bma2.org
SUMMARY:Public Starwatch
DESCRIPTION:Due to the poor weather conditions\, TONIGHT PUBLIC STARWATCH @ Nockamixon State Park has been POSTPONED TO JULY 26th. from 8:30 to 11:00 pm . Check our Calendar and Events page for details.
URL:https://bma2.org/event/public-starwatch-3/
LOCATION:Nockamixon Lake Park\, Tohickon Boat Launch\, FQGR+J4 Ottsville\, Pennsylvania\, PA\, 18951\, United States
CATEGORIES:Public Starwatch
ATTACH;FMTTYPE=image/png:https://bma2.org/wp-content/uploads/2025/01/110.png
END:VEVENT
BEGIN:VEVENT
DTSTART;TZID=UTC:20250621T203000
DTEND;TZID=UTC:20250621T230000
DTSTAMP:20260423T215858
CREATED:20250306T235730Z
LAST-MODIFIED:20250621T133217Z
UID:1749-1750537800-1750546800@bma2.org
SUMMARY:Public Starwatch
DESCRIPTION:You’re Invited!
URL:https://bma2.org/event/public-starwatch-2/
LOCATION:Nockamixon Lake Park\, Tohickon Boat Launch\, FQGR+J4 Ottsville\, Pennsylvania\, PA\, 18951\, United States
CATEGORIES:Public Starwatch
ATTACH;FMTTYPE=image/png:https://bma2.org/wp-content/uploads/2025/01/110.png
END:VEVENT
BEGIN:VEVENT
DTSTART;TZID=UTC:20250531T203000
DTEND;TZID=UTC:20250531T223000
DTSTAMP:20260423T215858
CREATED:20250128T223707Z
LAST-MODIFIED:20250317T000456Z
UID:1071-1748723400-1748730600@bma2.org
SUMMARY:Public Starwatch
DESCRIPTION:Join us for the first public Starwatch event of 2025
URL:https://bma2.org/event/public-starwatch/
LOCATION:Nockamixon Lake Park\, Tohickon Boat Launch\, FQGR+J4 Ottsville\, Pennsylvania\, PA\, 18951\, United States
CATEGORIES:Public Starwatch
ATTACH;FMTTYPE=image/png:https://bma2.org/wp-content/uploads/2025/01/110.png
END:VEVENT
END:VCALENDAR