BEGIN:VCALENDAR
VERSION:2.0
PRODID:-//BMAA - ECPv6.15.17//NONSGML v1.0//EN
CALSCALE:GREGORIAN
METHOD:PUBLISH
X-WR-CALNAME:BMAA
X-ORIGINAL-URL:https://bma2.org
X-WR-CALDESC:Events for BMAA
REFRESH-INTERVAL;VALUE=DURATION:PT1H
X-Robots-Tag:noindex
X-PUBLISHED-TTL:PT1H
BEGIN:VTIMEZONE
TZID:UTC
BEGIN:STANDARD
TZOFFSETFROM:+0000
TZOFFSETTO:+0000
TZNAME:UTC
DTSTART:20240101T000000
END:STANDARD
END:VTIMEZONE
BEGIN:VEVENT
DTSTART;TZID=UTC:20250306T170000
DTEND;TZID=UTC:20250306T200000
DTSTAMP:20260424T124012
CREATED:20250303T223554Z
LAST-MODIFIED:20250307T003454Z
UID:1498-1741280400-1741291200@bma2.org
SUMMARY:BMAA Outreach Event
DESCRIPTION:“March Art After Dark – Galaxies and Galleries”\n\n\n\n\nMichener Art Museum – Doylestown\nThu. 6 March 2025 – 5:00 PM to 8:00 PM
URL:https://bma2.org/event/outreach-event-1/
LOCATION:Michener Art Museum\, 138 S Pine St\, Doylestown\, 18901\, United States
CATEGORIES:Outreach Event
ATTACH;FMTTYPE=image/jpeg:https://bma2.org/wp-content/uploads/2025/03/Michener.jpg
END:VEVENT
BEGIN:VEVENT
DTSTART;TZID=UTC:20250305T193000
DTEND;TZID=UTC:20250305T210000
DTSTAMP:20260424T124012
CREATED:20250128T221425Z
LAST-MODIFIED:20250303T231943Z
UID:1061-1741203000-1741208400@bma2.org
SUMMARY:BMAA Monthly Meeting
DESCRIPTION:BMAA is inviting you to a scheduled Monthly Meeting.\n\nIn addition to our regular agenda items we will have the following feature presentation:\nBMAA New Website by Francesca Santini and Oleg Shardorodsky.\n\n\nhttps://us06web.zoom.us/j/81760617962?pwd=qtOk6dCgYclg9JXE8xzFo2G1LrwaAO.1\nMeeting ID: 817 6061 7962\nPasscode: 164385
URL:https://bma2.org/event/bmaa-monthly-meeting/
LOCATION:Upper Dublin Lutheran Church\, 411 Susquehanna Rd\, Ambler\, 19002\, United States
CATEGORIES:BMAA Monthly Meeting
ATTACH;FMTTYPE=image/jpeg:https://bma2.org/wp-content/uploads/2025/02/Home-page-of-the-new-website-scaled.jpg
END:VEVENT
BEGIN:VEVENT
DTSTART;TZID=UTC:20250205T193000
DTEND;TZID=UTC:20250205T210000
DTSTAMP:20260424T124012
CREATED:20250128T224716Z
LAST-MODIFIED:20250128T231528Z
UID:1069-1738783800-1738789200@bma2.org
SUMMARY:BMAA Monthly Meeting
DESCRIPTION:BMAA is inviting you to a scheduled Monthly Meeting.
URL:https://bma2.org/event/bmaa-monthly-meeting-2/
LOCATION:Michener Art Museum\, 138 S Pine St\, Doylestown\, 18901\, United States
CATEGORIES:BMAA Monthly Meeting
ATTACH;FMTTYPE=image/png:https://bma2.org/wp-content/uploads/2025/01/478.png
END:VEVENT
END:VCALENDAR