BEGIN:VCALENDAR
VERSION:2.0
PRODID:-//BMAA - ECPv6.15.17//NONSGML v1.0//EN
CALSCALE:GREGORIAN
METHOD:PUBLISH
X-WR-CALNAME:BMAA
X-ORIGINAL-URL:https://bma2.org
X-WR-CALDESC:Events for BMAA
REFRESH-INTERVAL;VALUE=DURATION:PT1H
X-Robots-Tag:noindex
X-PUBLISHED-TTL:PT1H
BEGIN:VTIMEZONE
TZID:UTC
BEGIN:STANDARD
TZOFFSETFROM:+0000
TZOFFSETTO:+0000
TZNAME:UTC
DTSTART:20240101T000000
END:STANDARD
END:VTIMEZONE
BEGIN:VEVENT
DTSTART;TZID=UTC:20250702T193000
DTEND;TZID=UTC:20250702T210000
DTSTAMP:20260424T044422
CREATED:20250128T230048Z
LAST-MODIFIED:20250601T092315Z
UID:1076-1751484600-1751490000@bma2.org
SUMMARY:BMAA Monthly Meeting
DESCRIPTION:BMAA is inviting you to a scheduled Monthly Meeting. In addition to our regular agenda items we will have the following special presentation:\n\nTelescopes: The Astronomer’s Tool – by Gary Sprague  \nThis presentation will review the history of the telescope\, provide useful terminology\, definitions and calculations for different telescope types and review steps to build your own reflecting telescope starting with a round piece of glass. No matter your experience you are sure to find it useful and informative.
URL:https://bma2.org/event/bmaa-monthly-meeting-6/
LOCATION:Upper Dublin Lutheran Church\, 411 Susquehanna Rd\, Ambler\, 19002\, United States
CATEGORIES:BMAA Monthly Meeting
ATTACH;FMTTYPE=image/png:https://bma2.org/wp-content/uploads/2025/01/1748724891393blob.png
END:VEVENT
BEGIN:VEVENT
DTSTART;TZID=UTC:20250719T203000
DTEND;TZID=UTC:20250719T230000
DTSTAMP:20260424T044422
CREATED:20250306T235931Z
LAST-MODIFIED:20250719T161506Z
UID:1751-1752957000-1752966000@bma2.org
SUMMARY:Public Starwatch
DESCRIPTION:Due to the poor weather conditions\, TONIGHT PUBLIC STARWATCH @ Nockamixon State Park has been POSTPONED TO JULY 26th. from 8:30 to 11:00 pm . Check our Calendar and Events page for details.
URL:https://bma2.org/event/public-starwatch-3/
LOCATION:Nockamixon Lake Park\, Tohickon Boat Launch\, FQGR+J4 Ottsville\, Pennsylvania\, PA\, 18951\, United States
CATEGORIES:Public Starwatch
ATTACH;FMTTYPE=image/png:https://bma2.org/wp-content/uploads/2025/01/110.png
END:VEVENT
BEGIN:VEVENT
DTSTART;TZID=UTC:20250726T203000
DTEND;TZID=UTC:20250726T230000
DTSTAMP:20260424T044422
CREATED:20250719T161812Z
LAST-MODIFIED:20250726T212658Z
UID:2245-1753561800-1753570800@bma2.org
SUMMARY:Public Starwatch
DESCRIPTION:—–7/26 STARWATCH has been CANCELED—— \nPublic Starwatch @ Nockamixon State Park from 8:30 to 11:00 pm has been canceled due to bad weather. Check our Calendar and Events page for next one.
URL:https://bma2.org/event/public-starwatch-8/
LOCATION:Nockamixon Lake Park\, Tohickon Boat Launch\, FQGR+J4 Ottsville\, Pennsylvania\, PA\, 18951\, United States
CATEGORIES:Public Starwatch
ATTACH;FMTTYPE=image/png:https://bma2.org/wp-content/uploads/2025/01/110.png
END:VEVENT
BEGIN:VEVENT
DTSTART;TZID=UTC:20250730T094500
DTEND;TZID=UTC:20250730T110000
DTSTAMP:20260424T044422
CREATED:20250506T211822Z
LAST-MODIFIED:20250607T125123Z
UID:2053-1753868700-1753873200@bma2.org
SUMMARY:Outreach Event
DESCRIPTION:LECTURE: Eclipses\, Auroras and Comets\, Oh My!\nby Dwight Dulsky \n\n2024 was an incredible year featuring three major astronomical events for astronomers. These are jaw dropping sights that don’t happen that often\, and to have these bucket list items appear right in our backyards is very rare. Our astronomers are constantly watching the skies and recording these special happenings year-round. We will revisit these three unique events and tell the backstory of how they occur and what we do to capture them in stunning detail. While most people sleep\, the Universe unfolds a beautiful tableau during the night. \nPresenter: For the past 20 years\, Dwight Dulsky of the Bucks-Mont Astronomical Association has worked on school and community outreach programming among numerous regional organizations teaching children and adults about the wonders of the night sky. Most recently\, with the Astronomical Society of the Pacific providing Solar Eclipse safety information in 2024. \nRegister to attend at the Upper Dublin Library Website
URL:https://bma2.org/event/outreach-event/
LOCATION:Upper Dublin Public Library\, 520 Virginia Dr\, Fort Washington\, 19034\, United States
CATEGORIES:Outreach Event
ATTACH;FMTTYPE=image/jpeg:https://bma2.org/wp-content/uploads/2025/06/download-1.jpg
END:VEVENT
END:VCALENDAR