BEGIN:VCALENDAR
VERSION:2.0
PRODID:-//BMAA - ECPv6.15.17//NONSGML v1.0//EN
CALSCALE:GREGORIAN
METHOD:PUBLISH
X-WR-CALNAME:BMAA
X-ORIGINAL-URL:https://bma2.org
X-WR-CALDESC:Events for BMAA
REFRESH-INTERVAL;VALUE=DURATION:PT1H
X-Robots-Tag:noindex
X-PUBLISHED-TTL:PT1H
BEGIN:VTIMEZONE
TZID:UTC
BEGIN:STANDARD
TZOFFSETFROM:+0000
TZOFFSETTO:+0000
TZNAME:UTC
DTSTART:20250101T000000
END:STANDARD
END:VTIMEZONE
BEGIN:VEVENT
DTSTART;TZID=UTC:20260502T090000
DTEND;TZID=UTC:20260502T120000
DTSTAMP:20260423T162143
CREATED:20260309T145329Z
LAST-MODIFIED:20260422T181225Z
UID:2953-1777712400-1777723200@bma2.org
SUMMARY:Outreach Event - Earth Day Celebration at Nockamixon State Park
DESCRIPTION:BMA2 club will participate in the 2nd. Annual Earth Day Celebration! organized by the Nockamixon State Park—RESCHEDULED TO MAY 2nd.\nSave the date for the Park second annual Earth Day Celebration! BMA2 volunteers will be at the Marina Visitor Center to share about their Astronomy related activities and educational material. Solar scopes will be available for observation\, weather permitting. \nThe event will take place at the Marina Visitor Center from around 9:00am to Noon \nRain date is May 2nd. \nPlease check our web site or the Park web site for possible cancellations.
URL:https://bma2.org/event/outreach-event-earth-day-celebration-at-nockamixon-state-park/
LOCATION:Marina Visitor Center\, 1 Harrisburg School Rd.\, Quakertown\, PA\, 18951
CATEGORIES:Outreach Event
ATTACH;FMTTYPE=image/jpeg:https://bma2.org/wp-content/uploads/2026/03/Untitled-2-3-e1773068207365.jpg
END:VEVENT
BEGIN:VEVENT
DTSTART;TZID=UTC:20260502T090000
DTEND;TZID=UTC:20260502T160000
DTSTAMP:20260423T162143
CREATED:20260309T142932Z
LAST-MODIFIED:20260309T151713Z
UID:2949-1777712400-1777737600@bma2.org
SUMMARY:Outreach Event - Scouting America STEM Village
DESCRIPTION:BMA2 club will participate in Scouting America “STEM Village” Event on May 2 at Green Lane County Park.\nAstronomy related activities and educational material will be available as well as solar scopes for observation. \nSet up is from 8-9AM and ends at 4PM.
URL:https://bma2.org/event/outreach-event-scouting-america-stem-village/
LOCATION:Green Lane County Park\, 2144 Snyder Rd\, Green Lane\, 18054\, United States
CATEGORIES:Outreach Event
ATTACH;FMTTYPE=image/jpeg:https://bma2.org/wp-content/uploads/2026/03/Untitled-2-4-e1773069398695.jpg
END:VEVENT
BEGIN:VEVENT
DTSTART;TZID=UTC:20260506T193000
DTEND;TZID=UTC:20260506T210000
DTSTAMP:20260423T162144
CREATED:20260403T201653Z
LAST-MODIFIED:20260403T201653Z
UID:3019-1778095800-1778101200@bma2.org
SUMMARY:BMAA Monthly Meeting - Demo on Image Processing using Pixinsight: Part 2 by James Cahill
DESCRIPTION:BMAA is inviting you to a scheduled Monthly Meeting.\nIn addition to our regular agenda items there will be a Special Presentation: “Image Processing using Pixinsight: Part 2”– by BMA2 Club member James Cahill” \nNote from James: “…we plan on demonstrating an entire workflow using Pixinsight. Because of this\, we recommend coming to the meeting in person as this will leverage the opportunity of our presentation by engaging us directly. I hope to see a good turnout\, especially those who want to start processing data from SeeStars!“ \nPlease use the entrance to the right of the main entrance\, look for the yellow and black BMAA sign.
URL:https://bma2.org/event/bmaa-monthly-meeting-demo-on-image-processing-using-pixinsight-part-2-by-james-cahill/
LOCATION:Upper Dublin Lutheran Church\, 411 Susquehanna Rd\, Ambler\, 19002\, United States
CATEGORIES:BMAA Monthly Meeting
ATTACH;FMTTYPE=image/jpeg:https://bma2.org/wp-content/uploads/2025/11/Cahill-M16-with-the-pillars-of-creation.jpg
END:VEVENT
BEGIN:VEVENT
DTSTART;TZID=UTC:20260516T201000
DTEND;TZID=UTC:20260516T223000
DTSTAMP:20260423T162144
CREATED:20260129T130947Z
LAST-MODIFIED:20260129T130947Z
UID:2817-1778962200-1778970600@bma2.org
SUMMARY:Public Starwatch
DESCRIPTION:Join us for a Star Watch at the Tohickon Boat Launch parking lot. Participation is free and open to the public. Our astronomers will have telescopes available to look through and will be on hand to answer questions. \nThe event opens at 8:10 PM with Pre Star Watch Activities /followed by the Star Watch at 8:35 PM. \nPlease check this website for updates in case the weather leads to cancellation. Cancellations\, if any\, will be communicated here by 5:00 PM on the day of the event. \nBefore you go please\, check our guidelines and tips to ensure that your stargazing will be an enjoyable experience for you and alll those who will attend:  https://bma2.org/starwatch-etiquette/
URL:https://bma2.org/event/public-starwatch-13/
LOCATION:Nockamixon Lake Park\, Tohickon Boat Launch\, FQGR+J4 Ottsville\, Pennsylvania\, PA\, 18951\, United States
CATEGORIES:Public Starwatch
ATTACH;FMTTYPE=image/png:https://bma2.org/wp-content/uploads/2025/01/110.png
END:VEVENT
END:VCALENDAR